BEGIN:VCALENDAR
VERSION:2.0
PRODID:-//Squarespace Inc/Squarespace 6//v6//EN
BEGIN:VEVENT
UID:592388329f74568c561a8a24@squarespace.com
DTSTAMP:20170530T105551Z
DTSTART:20170630T010000Z
DTEND:20170630T035900Z
SUMMARY:Shannon Hunter
END:VEVENT
END:VCALENDAR
