BEGIN:VCALENDAR
VERSION:2.0
PRODID:-//Squarespace Inc/Squarespace 6//v6//EN
BEGIN:VEVENT
UID:5923779103596e80487f3f90@squarespace.com
DTSTAMP:20170522T235700Z
DTSTART:20170616T000000Z
DTEND:20170616T035900Z
SUMMARY:Latin Night!
END:VEVENT
END:VCALENDAR
