BEGIN:VCALENDAR
VERSION:2.0
PRODID:-//Squarespace Inc/Squarespace 6//v6//EN
BEGIN:VEVENT
UID:594494515016e1bc631fe12f@squarespace.com
DTSTAMP:20170617T023230Z
DTSTART:20170621T010000Z
DTEND:20170621T035900Z
SUMMARY:Dj Andy and Nicky G
END:VEVENT
END:VCALENDAR
