BEGIN:VCALENDAR
VERSION:2.0
PRODID:-//Squarespace Inc/Squarespace 6//v6//EN
BEGIN:VEVENT
UID:592374f98419c239f27218cc@squarespace.com
DTSTAMP:20170522T234239Z
DTSTART:20170607T000000Z
DTEND:20170607T035900Z
SUMMARY:DJ Philippo!
END:VEVENT
END:VCALENDAR
