BEGIN:VCALENDAR
VERSION:2.0
PRODID:-//Squarespace Inc/Squarespace 6//v6//EN
BEGIN:VEVENT
UID:59237d4abe6594d8a0ac4312@squarespace.com
DTSTAMP:20170523T005701Z
DTSTART:20170610T003000Z
DTEND:20170611T035900Z
SUMMARY:Fonoti Brothers
END:VEVENT
END:VCALENDAR
