BEGIN:VCALENDAR
VERSION:2.0
PRODID:-//Squarespace Inc/Squarespace 6//v6//EN
BEGIN:VEVENT
UID:59448fdfe6f2e14c76fac130@squarespace.com
DTSTAMP:20170617T032022Z
DTSTART:20170702T023000Z
DTEND:20170702T035900Z
SUMMARY:DJ P.O.MM
END:VEVENT
END:VCALENDAR
