BEGIN:VCALENDAR
VERSION:2.0
PRODID:-//Squarespace Inc/Squarespace 6//v6//EN
BEGIN:VEVENT
UID:59449e8f59cc688cc61b9c45@squarespace.com
DTSTAMP:20170727T054405Z
DTSTART:20170825T013000Z
DTEND:20170825T035900Z
SUMMARY:Shannon Hunter
END:VEVENT
END:VCALENDAR
