BEGIN:VCALENDAR
VERSION:2.0
PRODID:-//Squarespace Inc/Squarespace 6//v6//EN
BEGIN:VEVENT
UID:5944934e9de4bbfc1707fdda@squarespace.com
DTSTAMP:20170727T053502Z
DTSTART:20170819T010000Z
DTEND:20170819T035900Z
SUMMARY:Girl Radio
END:VEVENT
END:VCALENDAR
