BEGIN:VCALENDAR
VERSION:2.0
PRODID:-//Squarespace Inc/Squarespace 6//v6//EN
BEGIN:VEVENT
UID:5944992dbf629ab97de95972@squarespace.com
DTSTAMP:20170617T025217Z
DTSTART:20170716T030000Z
DTEND:20170716T035900Z
SUMMARY:Justin Wellington
END:VEVENT
END:VCALENDAR
