BEGIN:VCALENDAR
VERSION:2.0
PRODID:-//Squarespace Inc/Squarespace 6//v6//EN
BEGIN:VEVENT
UID:594490edbebafb1fdafd437b@squarespace.com
DTSTAMP:20170617T021752Z
DTSTART:20170719T010000Z
DTEND:20170719T035900Z
SUMMARY:DJ Philippo
END:VEVENT
END:VCALENDAR
