BEGIN:VCALENDAR
VERSION:2.0
PRODID:-//Squarespace Inc/Squarespace 6//v6//EN
BEGIN:VEVENT
UID:59449c9586e6c048e867b4ac@squarespace.com
DTSTAMP:20170912T001654Z
DTSTART:20170923T013000Z
DTEND:20170924T035900Z
SUMMARY:No Drahma
END:VEVENT
END:VCALENDAR
