BEGIN:VCALENDAR
VERSION:2.0
PRODID:-//Squarespace Inc/Squarespace 6//v6//EN
BEGIN:VEVENT
UID:5944951503596e35e6681593@squarespace.com
DTSTAMP:20170718T102020Z
DTSTART:20170726T010000Z
DTEND:20170726T035900Z
SUMMARY:DJ Andy and Nicky G
END:VEVENT
END:VCALENDAR
