BEGIN:VCALENDAR
VERSION:2.0
PRODID:-//Squarespace Inc/Squarespace 6//v6//EN
BEGIN:VEVENT
UID:5944a03c3a0411eec5074369@squarespace.com
DTSTAMP:20171002T222550Z
DTSTART:20171020T003000Z
DTEND:20171020T035900Z
SUMMARY:Shannon Hunter and Nicky G
END:VEVENT
END:VCALENDAR
