BEGIN:VCALENDAR
VERSION:2.0
PRODID:-//Squarespace Inc/Squarespace 6//v6//EN
BEGIN:VEVENT
UID:5944a0e4bebafb1fdafdc949@squarespace.com
DTSTAMP:20170816T023333Z
DTSTART:20170826T013000Z
DTEND:20170827T035900Z
SUMMARY:Grand Theft Audio
END:VEVENT
END:VCALENDAR
