BEGIN:VCALENDAR
VERSION:2.0
PRODID:-//Squarespace Inc/Squarespace 6//v6//EN
BEGIN:VEVENT
UID:5944a11e8419c26c303bd888@squarespace.com
DTSTAMP:20170816T014225Z
DTSTART:20171021T013000Z
DTEND:20171022T035900Z
SUMMARY:Grand Theft Audio
END:VEVENT
END:VCALENDAR
