BEGIN:VCALENDAR
VERSION:2.0
PRODID:-//Squarespace Inc/Squarespace 6//v6//EN
BEGIN:VEVENT
UID:5944a2d3ccf210b82f0feed2@squarespace.com
DTSTAMP:20170617T033408Z
DTSTART:20170705T003000Z
DTEND:20170705T035900Z
SUMMARY:Independence Day with Nicky G
END:VEVENT
END:VCALENDAR
