BEGIN:VCALENDAR
VERSION:2.0
PRODID:-//Squarespace Inc/Squarespace 6//v6//EN
BEGIN:VEVENT
UID:59449b7d20099e726f744a15@squarespace.com
DTSTAMP:20170617T030227Z
DTSTART:20170708T013000Z
DTEND:20170709T035900Z
SUMMARY:Karma Duo
END:VEVENT
END:VCALENDAR
