BEGIN:VCALENDAR
VERSION:2.0
PRODID:-//Squarespace Inc/Squarespace 6//v6//EN
BEGIN:VEVENT
UID:596ef5681b631b939cc1329f@squarespace.com
DTSTAMP:20170727T062110Z
DTSTART:20170802T003000Z
DTEND:20170802T035900Z
SUMMARY:Bobby Maguire
END:VEVENT
END:VCALENDAR
