BEGIN:VCALENDAR
VERSION:2.0
PRODID:-//Squarespace Inc/Squarespace 6//v6//EN
BEGIN:VEVENT
UID:59449859d2b8579c760b8ac1@squarespace.com
DTSTAMP:20170727T053357Z
DTSTART:20170816T010000Z
DTEND:20170816T035900Z
SUMMARY:DJ Philippo and Nicky G
END:VEVENT
END:VCALENDAR
