BEGIN:VCALENDAR
VERSION:2.0
PRODID:-//Squarespace Inc/Squarespace 6//v6//EN
BEGIN:VEVENT
UID:5981a2d12994ca9c477b3af4@squarespace.com
DTSTAMP:20170802T100127Z
DTSTART:20170811T003000Z
DTEND:20170811T035900Z
SUMMARY:Nicky G
END:VEVENT
END:VCALENDAR
