BEGIN:VCALENDAR
VERSION:2.0
PRODID:-//Squarespace Inc/Squarespace 6//v6//EN
BEGIN:VEVENT
UID:5981a756d482e9d2f73f6727@squarespace.com
DTSTAMP:20170802T102240Z
DTSTART:20170812T010000Z
DTEND:20170813T035900Z
SUMMARY:Anjali and Palmer
END:VEVENT
END:VCALENDAR
