BEGIN:VCALENDAR
VERSION:2.0
PRODID:-//Squarespace Inc/Squarespace 6//v6//EN
BEGIN:VEVENT
UID:5981a2ff86e6c0c43ada89ff@squarespace.com
DTSTAMP:20170802T100222Z
DTSTART:20170818T003000Z
DTEND:20170818T035900Z
SUMMARY:Nicky G
END:VEVENT
END:VCALENDAR
