BEGIN:VCALENDAR
VERSION:2.0
PRODID:-//Squarespace Inc/Squarespace 6//v6//EN
BEGIN:VEVENT
UID:597980723a0411960d4bae9b@squarespace.com
DTSTAMP:20170727T055914Z
DTSTART:20170820T003000Z
DTEND:20170820T035900Z
SUMMARY:DJ POMM
END:VEVENT
END:VCALENDAR
