BEGIN:VCALENDAR
VERSION:2.0
PRODID:-//Squarespace Inc/Squarespace 6//v6//EN
BEGIN:VEVENT
UID:59939b9b8419c28f50cb8cf4@squarespace.com
DTSTAMP:20171002T222204Z
DTSTART:20171011T013000Z
DTEND:20171011T035900Z
SUMMARY:DJ Andy and Nicky G
END:VEVENT
END:VCALENDAR
