BEGIN:VCALENDAR
VERSION:2.0
PRODID:-//Squarespace Inc/Squarespace 6//v6//EN
BEGIN:VEVENT
UID:599cb7d559cc68ca47dcaa79@squarespace.com
DTSTAMP:20170822T230301Z
DTSTART:20170827T150000Z
DTEND:20170827T210000Z
SUMMARY:Mayweather vs McGregor Fight LIVE!
END:VEVENT
END:VCALENDAR
