BEGIN:VCALENDAR
VERSION:2.0
PRODID:-//Squarespace Inc/Squarespace 6//v6//EN
BEGIN:VEVENT
UID:59797eb5cd0f68aa80717f52@squarespace.com
DTSTAMP:20170727T054940Z
DTSTART:20170823T003000Z
DTEND:20170823T035900Z
SUMMARY:Nicky G Toads and Tunes
END:VEVENT
END:VCALENDAR
