BEGIN:VCALENDAR
VERSION:2.0
PRODID:-//Squarespace Inc/Squarespace 6//v6//EN
BEGIN:VEVENT
UID:59a50540d55b419990af321a@squarespace.com
DTSTAMP:20170829T061632Z
DTSTART:20170830T030000Z
DTEND:20170830T035900Z
SUMMARY:DJ Alan Ay
END:VEVENT
END:VCALENDAR
