BEGIN:VCALENDAR
VERSION:2.0
PRODID:-//Squarespace Inc/Squarespace 6//v6//EN
BEGIN:VEVENT
UID:59797efc5016e1aaa1ca5174@squarespace.com
DTSTAMP:20170829T062810Z
DTSTART:20170920T003000Z
DTEND:20170920T035900Z
SUMMARY:Nicky G
END:VEVENT
END:VCALENDAR
