BEGIN:VCALENDAR
VERSION:2.0
PRODID:-//Squarespace Inc/Squarespace 6//v6//EN
BEGIN:VEVENT
UID:5981a2653e00becc7fae5d09@squarespace.com
DTSTAMP:20170802T102352Z
DTSTART:20170804T003000Z
DTEND:20170804T035900Z
SUMMARY:Nicky G
END:VEVENT
END:VCALENDAR
