BEGIN:VCALENDAR
VERSION:2.0
PRODID:-//Squarespace Inc/Squarespace 6//v6//EN
BEGIN:VEVENT
UID:5981a336cf81e02bb49804de@squarespace.com
DTSTAMP:20170829T055123Z
DTSTART:20170901T003000Z
DTEND:20170901T035900Z
SUMMARY:Nicky G and DJ Alan Ay
END:VEVENT
END:VCALENDAR
