BEGIN:VCALENDAR
VERSION:2.0
PRODID:-//Squarespace Inc/Squarespace 6//v6//EN
BEGIN:VEVENT
UID:59797d07d482e9e56c89ebf9@squarespace.com
DTSTAMP:20170816T023603Z
DTSTART:20171029T010000Z
DTEND:20171029T035900Z
SUMMARY:DJ POMM
END:VEVENT
END:VCALENDAR
