BEGIN:VCALENDAR
VERSION:2.0
PRODID:-//Squarespace Inc/Squarespace 6//v6//EN
BEGIN:VEVENT
UID:59b726c0ccc5c576307b24ca@squarespace.com
DTSTAMP:20170912T001430Z
DTSTART:20170915T003000Z
DTEND:20170915T035900Z
SUMMARY:Latin Night!
END:VEVENT
END:VCALENDAR
