BEGIN:VCALENDAR
VERSION:2.0
PRODID:-//Squarespace Inc/Squarespace 6//v6//EN
BEGIN:VEVENT
UID:597982c25016e1aaa1ca6abe@squarespace.com
DTSTAMP:20170816T023415Z
DTSTART:20170916T003000Z
DTEND:20170916T035900Z
SUMMARY:Girl Radio
END:VEVENT
END:VCALENDAR
