BEGIN:VCALENDAR
VERSION:2.0
PRODID:-//Squarespace Inc/Squarespace 6//v6//EN
BEGIN:VEVENT
UID:597983e1414fb5bf09f829cb@squarespace.com
DTSTAMP:20170727T061147Z
DTSTART:20170917T003000Z
DTEND:20170917T035900Z
SUMMARY:DJ POMM
END:VEVENT
END:VCALENDAR
