BEGIN:VCALENDAR
VERSION:2.0
PRODID:-//Squarespace Inc/Squarespace 6//v6//EN
BEGIN:VEVENT
UID:599389bdff7c50aff7680bfc@squarespace.com
DTSTAMP:20170902T035859Z
DTSTART:20170903T030000Z
DTEND:20170903T035900Z
SUMMARY:Justin Wellington
END:VEVENT
END:VCALENDAR
