BEGIN:VCALENDAR
VERSION:2.0
PRODID:-//Squarespace Inc/Squarespace 6//v6//EN
BEGIN:VEVENT
UID:59798442a5790a33966532ec@squarespace.com
DTSTAMP:20171002T221113Z
DTSTART:20171004T003000Z
DTEND:20171004T035900Z
SUMMARY:Shannon Hunter
END:VEVENT
END:VCALENDAR
