BEGIN:VCALENDAR
VERSION:2.0
PRODID:-//Squarespace Inc/Squarespace 6//v6//EN
BEGIN:VEVENT
UID:59c77e79cf81e0186921af0e@squarespace.com
DTSTAMP:20170924T094534Z
DTSTART:20170928T120000Z
DTEND:20170929T035900Z
SUMMARY:Latin Party
END:VEVENT
END:VCALENDAR
