BEGIN:VCALENDAR
VERSION:2.0
PRODID:-//Squarespace Inc/Squarespace 6//v6//EN
BEGIN:VEVENT
UID:597981f7f14aa19f19a1adcf@squarespace.com
DTSTAMP:20170727T060542Z
DTSTART:20170906T003000Z
DTEND:20170906T035900Z
SUMMARY:Shannon Hunter
END:VEVENT
END:VCALENDAR
