BEGIN:VCALENDAR
VERSION:2.0
PRODID:-//Squarespace Inc/Squarespace 6//v6//EN
BEGIN:VEVENT
UID:59939f74f5e231d88b43f9ef@squarespace.com
DTSTAMP:20170816T012950Z
DTSTART:20170909T013000Z
DTEND:20170909T035900Z
SUMMARY:The Code
END:VEVENT
END:VCALENDAR
