BEGIN:VCALENDAR
VERSION:2.0
PRODID:-//Squarespace Inc/Squarespace 6//v6//EN
BEGIN:VEVENT
UID:5993a0754c0dbfb3fbf4f1bb@squarespace.com
DTSTAMP:20170816T013217Z
DTSTART:20170910T020000Z
DTEND:20170910T035900Z
SUMMARY:Girl Radio
END:VEVENT
END:VCALENDAR
