BEGIN:VCALENDAR
VERSION:2.0
PRODID:-//Squarespace Inc/Squarespace 6//v6//EN
BEGIN:VEVENT
UID:5a54b276c83025f265d11b91@squarespace.com
DTSTAMP:20180109T121737Z
DTSTART:20180113T003000Z
DTEND:20180114T045900Z
SUMMARY:Grand Theft Audio
END:VEVENT
END:VCALENDAR
