BEGIN:VCALENDAR
VERSION:2.0
PRODID:-//Squarespace Inc/Squarespace 6//v6//EN
BEGIN:VEVENT
UID:5a54b2f108522929293e6aa4@squarespace.com
DTSTAMP:20180109T121837Z
DTSTART:20180120T003000Z
DTEND:20180120T045900Z
SUMMARY:GIRL RADIO
END:VEVENT
END:VCALENDAR
