BEGIN:VCALENDAR
VERSION:2.0
PRODID:-//Squarespace Inc/Squarespace 6//v6//EN
BEGIN:VEVENT
UID:5a54b32771c10b117ef732af@squarespace.com
DTSTAMP:20180109T121944Z
DTSTART:20180121T003000Z
DTEND:20180121T045900Z
SUMMARY:DJ P.O MM
END:VEVENT
END:VCALENDAR
