BEGIN:VCALENDAR
VERSION:2.0
PRODID:-//Squarespace Inc/Squarespace 6//v6//EN
BEGIN:VEVENT
UID:5a54b36ae2c4836a1c458f78@squarespace.com
DTSTAMP:20180109T122120Z
DTSTART:20180127T003000Z
DTEND:20180127T045900Z
SUMMARY:AUSTRALIA DAY SPECIAL |  Justin Wellington
END:VEVENT
END:VCALENDAR
