BEGIN:VCALENDAR
VERSION:2.0
PRODID:-//Squarespace Inc/Squarespace 6//v6//EN
BEGIN:VEVENT
UID:5a54b3c924a6947246d5d180@squarespace.com
DTSTAMP:20180109T122214Z
DTSTART:20180128T003000Z
DTEND:20180128T045900Z
SUMMARY:THE CODE
END:VEVENT
END:VCALENDAR
