BEGIN:VCALENDAR
VERSION:2.0
PRODID:-//Squarespace Inc/Squarespace 6//v6//EN
BEGIN:VEVENT
UID:5a25f04c652deaa85491811c@squarespace.com
DTSTAMP:20171205T010345Z
DTSTART:20180106T013000Z
DTEND:20180106T045900Z
SUMMARY:Girl Radio
END:VEVENT
END:VCALENDAR
