BEGIN:VCALENDAR
VERSION:2.0
PRODID:-//Squarespace Inc/Squarespace 6//v6//EN
BEGIN:VEVENT
UID:5a25f0c54192028cc49ec664@squarespace.com
DTSTAMP:20171205T010548Z
DTSTART:20180107T013000Z
DTEND:20180107T045900Z
SUMMARY:The Code
END:VEVENT
END:VCALENDAR
