BEGIN:VCALENDAR
VERSION:2.0
PRODID:-//Squarespace Inc/Squarespace 6//v6//EN
BEGIN:VEVENT
UID:5c5a1c2bc83025d7e54f4ac1@squarespace.com
DTSTAMP:20190206T022552Z
DTSTART:20190316T003000Z
DTEND:20190317T035900Z
SUMMARY:«RUPHEO»
END:VEVENT
END:VCALENDAR
