BEGIN:VCALENDAR
VERSION:2.0
PRODID:-//Squarespace Inc/Squarespace 6//v6//EN
BEGIN:VEVENT
UID:5c2d62a088251bc7be36660f@squarespace.com
DTSTAMP:20190206T022503Z
DTSTART:20190217T013000Z
DTEND:20190217T013000Z
SUMMARY:«RUPHEO»
END:VEVENT
END:VCALENDAR
