BEGIN:VCALENDAR
VERSION:2.0
PRODID:-//Squarespace Inc/Squarespace 6//v6//EN
BEGIN:VEVENT
UID:5bbb329e1905f431b73bb47e@squarespace.com
DTSTAMP:20190103T011846Z
DTSTART:20190106T013000Z
DTEND:20190106T045900Z
SUMMARY:«RUPHEO»
END:VEVENT
END:VCALENDAR
